BEGIN:VCALENDAR
VERSION:2.0
PRODID:-//Squarespace Inc/Squarespace 6//v6//EN
BEGIN:VEVENT
UID:5ba2dc9070a6adaef8c43715@squarespace.com
DTSTAMP:20181015T023256Z
DTSTART:20181106T010000Z
DTEND:20181106T050000Z
SUMMARY:Melbourne Cup Luncheon
GEO:40.720756;-74.000761
LOCATION:The Musicians Club\, 276 Crystal Street\, Broken Hill\, NSW 2880\, 
 Australia
END:VEVENT
END:VCALENDAR
