BEGIN:VCALENDAR
VERSION:2.0
PRODID:-//Squarespace Inc/Squarespace 6//v6//EN
BEGIN:VEVENT
UID:5c0606474ae2372ebc37a5fd@squarespace.com
DTSTAMP:20181209T230323Z
DTSTART:20181215T073000Z
DTEND:20181215T132900Z
SUMMARY:Members Xmas Party
GEO:-31.959514;141.465221
LOCATION:The Broken Hill Musicians Club\, 276 Crystal St\, Broken Hill\, NS
 W\, 2880\, Australia
END:VEVENT
END:VCALENDAR
