BEGIN:VCALENDAR
VERSION:2.0
PRODID:-//Squarespace Inc/Squarespace 6//v6//EN
BEGIN:VEVENT
UID:5c07296c4ae2371295a83264@squarespace.com
DTSTAMP:20181205T013158Z
DTSTART:20181231T073000Z
DTEND:20181231T100000Z
SUMMARY:New Years Eve Chinese Buffet
GEO:-31.959477;141.465522
LOCATION:The Broken Hill Musicians Club\, 276 Crystal Street\, Broken Hill 
 NSW 2880\, Australia
END:VEVENT
END:VCALENDAR
