BEGIN:VCALENDAR
VERSION:2.0
PRODID:-//Squarespace Inc/Squarespace 6//v6//EN
BEGIN:VEVENT
UID:5c072c078a922da50b013fe5@squarespace.com
DTSTAMP:20181205T013824Z
DTSTART:20181219T073000Z
DTEND:20181219T100000Z
SUMMARY:Cluck'N Parmy Nite
GEO:-31.959477;141.465522
LOCATION:The Broken Hill Musicians Club\, 276 Crystal Street\, Broken Hill 
 NSW 2880\, Australia
END:VEVENT
END:VCALENDAR
