BEGIN:VCALENDAR
VERSION:2.0
PRODID:-//Squarespace Inc/Squarespace 6//v6//EN
BEGIN:VEVENT
UID:5c072ae06d2a7345e6949262@squarespace.com
DTSTAMP:20181205T013757Z
DTSTART:20181205T073000Z
DTEND:20181205T100000Z
SUMMARY:Cluck'N Parmy Nite
GEO:-31.959477;141.465522
LOCATION:The Broken Hill Musicians Club\, 276 Crystal Street\, Broken Hill 
 NSW 2880\, Australia
END:VEVENT
END:VCALENDAR
