BEGIN:VCALENDAR
VERSION:2.0
PRODID:-//Squarespace Inc/Squarespace 6//v6//EN
BEGIN:VEVENT
UID:5c07282f6d2a7345e6946a26@squarespace.com
DTSTAMP:20181205T012507Z
DTSTART:20181216T003000Z
DTEND:20181216T043000Z
SUMMARY:Muso's MEGA Xmas Draw
GEO:-31.959477;141.465522
LOCATION:The Broken Hill Musicians Club\, 276 Crystal Street\, Broken Hill 
 NSW 2880\, Australia
END:VEVENT
END:VCALENDAR
