BEGIN:VCALENDAR
VERSION:2.0
PRODID:-//Squarespace Inc/Squarespace 6//v6//EN
BEGIN:VEVENT
UID:5c073b4721c67c88df5a4536@squarespace.com
DTSTAMP:20181205T024327Z
DTSTART:20181214T073000Z
DTEND:20181214T100000Z
SUMMARY:Burger &amp\; Brew Deal
GEO:-31.959477;141.465522
LOCATION:The Broken Hill Musicians Club\, 276 Crystal Street\, Broken Hill 
 NSW 2880\, Australia
END:VEVENT
END:VCALENDAR
