BEGIN:VCALENDAR
VERSION:2.0
PRODID:-//Squarespace Inc/Squarespace 6//v6//EN
BEGIN:VEVENT
UID:5c073b7c8a922d3a945bc1b5@squarespace.com
DTSTAMP:20190107T013023Z
DTSTART:20190111T073000Z
DTEND:20190111T100000Z
SUMMARY:Burger &amp\; Brew Deal
GEO:-31.959477;141.465522
LOCATION:The Broken Hill Musicians Club\, 276 Crystal Street\, Broken Hill 
 NSW 2880\, Australia
END:VEVENT
END:VCALENDAR
