BEGIN:VCALENDAR
VERSION:2.0
PRODID:-//Squarespace Inc/Squarespace 6//v6//EN
BEGIN:VEVENT
UID:5c0736656d2a73d062446468@squarespace.com
DTSTAMP:20181205T024319Z
DTSTART:20181207T073000Z
DTEND:20181207T100000Z
SUMMARY:Burger &amp\; Brew Deal
GEO:-31.959477;141.465522
LOCATION:The Broken Hill Musicians Club\, 276 Crystal Street\, Broken Hill 
 NSW 2880\, Australia
END:VEVENT
END:VCALENDAR
