BEGIN:VCALENDAR
VERSION:2.0
PRODID:-//Squarespace Inc/Squarespace 6//v6//EN
BEGIN:VEVENT
UID:5c073c98cd83666cc2320b27@squarespace.com
DTSTAMP:20181205T024942Z
DTSTART:20181215T033000Z
DTEND:20181215T073000Z
SUMMARY:Hoppy Hour
GEO:-31.959477;141.465522
LOCATION:The Broken Hill Musicians Club\, 276 Crystal Street\, Broken Hill 
 NSW 2880\, Australia
END:VEVENT
END:VCALENDAR
