BEGIN:VCALENDAR
VERSION:2.0
PRODID:-//Squarespace Inc/Squarespace 6//v6//EN
BEGIN:VEVENT
UID:5c07364cb8a045e14636c8fc@squarespace.com
DTSTAMP:20190107T012952Z
DTSTART:20190112T013000Z
DTEND:20190112T033000Z
SUMMARY:Pizza &amp\; Brew Deal 
GEO:-31.959477;141.465522
LOCATION:The Broken Hill Musicians Club\, 276 Crystal Street\, Broken Hill 
 NSW 2880\, Australia
END:VEVENT
END:VCALENDAR
