BEGIN:VCALENDAR
VERSION:2.0
PRODID:-//Squarespace Inc/Squarespace 6//v6//EN
BEGIN:VEVENT
UID:5c07363d4d7a9cadddf05ccb@squarespace.com
DTSTAMP:20181205T022158Z
DTSTART:20181222T013000Z
DTEND:20181222T033000Z
SUMMARY:Pizza &amp\; Brew Deal 
GEO:-31.959477;141.465522
LOCATION:The Broken Hill Musicians Club\, 276 Crystal Street\, Broken Hill 
 NSW 2880\, Australia
END:VEVENT
END:VCALENDAR
