BEGIN:VCALENDAR
VERSION:2.0
PRODID:-//Squarespace Inc/Squarespace 6//v6//EN
BEGIN:VEVENT
UID:5c07362dcd83666cc231ac65@squarespace.com
DTSTAMP:20181205T022142Z
DTSTART:20181215T013000Z
DTEND:20181215T033000Z
SUMMARY:Pizza &amp\; Brew Deal 
GEO:-31.959477;141.465522
LOCATION:The Broken Hill Musicians Club\, 276 Crystal Street\, Broken Hill 
 NSW 2880\, Australia
END:VEVENT
END:VCALENDAR
