BEGIN:VCALENDAR
VERSION:2.0
PRODID:-//Squarespace Inc/Squarespace 6//v6//EN
BEGIN:VEVENT
UID:5c073510cd83666cc2319905@squarespace.com
DTSTAMP:20181205T022133Z
DTSTART:20181208T013000Z
DTEND:20181208T033000Z
SUMMARY:Pizza &amp\; Brew Deal 
GEO:-31.959477;141.465522
LOCATION:The Broken Hill Musicians Club\, 276 Crystal Street\, Broken Hill 
 NSW 2880\, Australia
END:VEVENT
END:VCALENDAR
