BEGIN:VCALENDAR
VERSION:2.0
PRODID:-//Squarespace Inc/Squarespace 6//v6//EN
BEGIN:VEVENT
UID:5c0731e703ce64453633172f@squarespace.com
DTSTAMP:20181205T020344Z
DTSTART:20181222T073000Z
DTEND:20181222T100000Z
SUMMARY:Saturday's $10 Schnitty Night
GEO:-31.959477;141.465522
LOCATION:The Broken Hill Musicians Club\, 276 Crystal Street\, Broken Hill 
 NSW 2880\, Australia
END:VEVENT
END:VCALENDAR
