BEGIN:VCALENDAR
VERSION:2.0
PRODID:-//Squarespace Inc/Squarespace 6//v6//EN
BEGIN:VEVENT
UID:5c0731d32b6a2842ff501e7f@squarespace.com
DTSTAMP:20181205T020309Z
DTSTART:20181215T073000Z
DTEND:20181215T100000Z
SUMMARY:Saturday's $10 Schnitty Night
GEO:-31.959477;141.465522
LOCATION:The Broken Hill Musicians Club\, 276 Crystal Street\, Broken Hill 
 NSW 2880\, Australia
END:VEVENT
END:VCALENDAR
