BEGIN:VCALENDAR
VERSION:2.0
PRODID:-//Squarespace Inc/Squarespace 6//v6//EN
BEGIN:VEVENT
UID:5c072d17898583d94c17f92b@squarespace.com
DTSTAMP:20181205T020259Z
DTSTART:20181208T073000Z
DTEND:20181208T100000Z
SUMMARY:Saturday's $10 Schnitty Night
GEO:-31.959477;141.465522
LOCATION:The Broken Hill Musicians Club\, 276 Crystal Street\, Broken Hill 
 NSW 2880\, Australia
END:VEVENT
END:VCALENDAR
