BEGIN:VCALENDAR
VERSION:2.0
PRODID:-//Squarespace Inc/Squarespace 6//v6//EN
BEGIN:VEVENT
UID:5c0745384fa51a539593421f@squarespace.com
DTSTAMP:20181205T043633Z
DTSTART:20181223T013000Z
DTEND:20181223T033000Z
SUMMARY:Roasted Sunday Lunch
GEO:-31.959477;141.465522
LOCATION:The Broken Hill Musicians Club\, 276 Crystal Street\, Broken Hill 
 NSW 2880\, Australia
END:VEVENT
END:VCALENDAR
