BEGIN:VCALENDAR
VERSION:2.0
PRODID:-//Squarespace Inc/Squarespace 6//v6//EN
BEGIN:VEVENT
UID:5c074549c2241bf12f894312@squarespace.com
DTSTAMP:20181205T043655Z
DTSTART:20181230T013000Z
DTEND:20181230T033000Z
SUMMARY:Roasted Sunday Lunch
GEO:-31.959477;141.465522
LOCATION:The Broken Hill Musicians Club\, 276 Crystal Street\, Broken Hill 
 NSW 2880\, Australia
END:VEVENT
END:VCALENDAR
