BEGIN:VCALENDAR
VERSION:2.0
PRODID:-//Squarespace Inc/Squarespace 6//v6//EN
BEGIN:VEVENT
UID:5c0745ba8a922d3a945c4634@squarespace.com
DTSTAMP:20181205T043644Z
DTSTART:20181223T073000Z
DTEND:20181223T100000Z
SUMMARY:Roasted Sunday Dinner
GEO:-31.959477;141.465522
LOCATION:The Broken Hill Musicians Club\, 276 Crystal Street\, Broken Hill 
 NSW 2880\, Australia
END:VEVENT
END:VCALENDAR
