BEGIN:VCALENDAR
VERSION:2.0
PRODID:-//Squarespace Inc/Squarespace 6//v6//EN
BEGIN:VEVENT
UID:5e0eb3a986f7c4626265bc8b@squarespace.com
DTSTAMP:20200103T032329Z
DTSTART:20200126T013000Z
DTEND:20200126T033000Z
SUMMARY:Roasted Sunday Dinner
GEO:-31.959477;141.465522
LOCATION:The Broken Hill Musicians Club\, 276 Crystal Street\, Broken Hill 
 NSW 2880\, Australia
END:VEVENT
END:VCALENDAR
