BEGIN:VCALENDAR
VERSION:2.0
PRODID:-//Squarespace Inc/Squarespace 6//v6//EN
BEGIN:VEVENT
UID:5e0eb373d1d8651e288a4187@squarespace.com
DTSTAMP:20200103T032235Z
DTSTART:20200112T013000Z
DTEND:20200112T033000Z
SUMMARY:Roasted Sunday Dinner
GEO:-31.959477;141.465522
LOCATION:The Broken Hill Musicians Club\, 276 Crystal Street\, Broken Hill 
 NSW 2880\, Australia
END:VEVENT
END:VCALENDAR
