BEGIN:VCALENDAR
VERSION:2.0
PRODID:-//Squarespace Inc/Squarespace 6//v6//EN
BEGIN:VEVENT
UID:5c0745a270a6add5f1f2c16c@squarespace.com
DTSTAMP:20181205T043555Z
DTSTART:20181209T073000Z
DTEND:20181209T100000Z
SUMMARY:Roasted Sunday Dinner
GEO:-31.959477;141.465522
LOCATION:The Broken Hill Musicians Club\, 276 Crystal Street\, Broken Hill 
 NSW 2880\, Australia
END:VEVENT
END:VCALENDAR
