BEGIN:VCALENDAR
VERSION:2.0
PRODID:-//Squarespace Inc/Squarespace 6//v6//EN
BEGIN:VEVENT
UID:5c074562562fa79618e39f5d@squarespace.com
DTSTAMP:20181205T043619Z
DTSTART:20181216T073000Z
DTEND:20181216T100000Z
SUMMARY:Roasted Sunday Dinner
GEO:-31.959477;141.465522
LOCATION:The Broken Hill Musicians Club\, 276 Crystal Street\, Broken Hill 
 NSW 2880\, Australia
END:VEVENT
END:VCALENDAR
