BEGIN:VCALENDAR
VERSION:2.0
PRODID:-//Squarespace Inc/Squarespace 6//v6//EN
BEGIN:VEVENT
UID:5c074494562fa79618e39429@squarespace.com
DTSTAMP:20181205T043544Z
DTSTART:20181209T013000Z
DTEND:20181209T033000Z
SUMMARY:Roasted Sunday Lunch
GEO:-31.959477;141.465522
LOCATION:The Broken Hill Musicians Club\, 276 Crystal Street\, Broken Hill 
 NSW 2880\, Australia
END:VEVENT
END:VCALENDAR
