BEGIN:VCALENDAR
VERSION:2.0
PRODID:-//Squarespace Inc/Squarespace 6//v6//EN
BEGIN:VEVENT
UID:5b5024db03ce6465a202f297@squarespace.com
DTSTAMP:20180724T012822Z
DTSTART:20180808T083000Z
DTEND:20180808T093000Z
SUMMARY:Wednesday Multi-Club Super Draw
END:VEVENT
END:VCALENDAR
