BEGIN:VCALENDAR
VERSION:2.0
PRODID:-//Squarespace Inc/Squarespace 6//v6//EN
BEGIN:VEVENT
UID:5b5024f02b6a2853e2c70503@squarespace.com
DTSTAMP:20180724T013031Z
DTSTART:20180815T083000Z
DTEND:20180815T093000Z
SUMMARY:Wednesday Multi-Club Super Draw
END:VEVENT
END:VCALENDAR
