BEGIN:VCALENDAR
VERSION:2.0
PRODID:-//Squarespace Inc/Squarespace 6//v6//EN
BEGIN:VEVENT
UID:5b5024c7352f5358550d2678@squarespace.com
DTSTAMP:20180724T012542Z
DTSTART:20180801T083000Z
DTEND:20180801T093000Z
SUMMARY:Wednesday Multi-Club Super Draw
END:VEVENT
END:VCALENDAR
