BEGIN:VCALENDAR
VERSION:2.0
PRODID:-//Squarespace Inc/Squarespace 6//v6//EN
BEGIN:VEVENT
UID:5bc41135e4966bccb57b4673@squarespace.com
DTSTAMP:20181015T040301Z
DTSTART:20181017T080000Z
DTEND:20181017T085500Z
SUMMARY:Multi-Club Super Draw
END:VEVENT
END:VCALENDAR
