BEGIN:VCALENDAR
VERSION:2.0
PRODID:-//Squarespace Inc/Squarespace 6//v6//EN
BEGIN:VEVENT
UID:5b5025318a922dd648d56a89@squarespace.com
DTSTAMP:20180724T014746Z
DTSTART:20180829T083000Z
DTEND:20180829T093000Z
SUMMARY:Wednesday Multi-Club Super Draw
END:VEVENT
END:VCALENDAR
