BEGIN:VCALENDAR
VERSION:2.0
PRODID:-//Squarespace Inc/Squarespace 6//v6//EN
BEGIN:VEVENT
UID:5b50250a758d46506ed016ea@squarespace.com
DTSTAMP:20180724T014511Z
DTSTART:20180822T083000Z
DTEND:20180822T093000Z
SUMMARY:Wednesday Multi-Club Super Draw
END:VEVENT
END:VCALENDAR
