BEGIN:VCALENDAR
VERSION:2.0
PRODID:-//Squarespace Inc/Squarespace 6//v6//EN
BEGIN:VEVENT
UID:5b4564df03ce64b90e97a857@squarespace.com
DTSTAMP:20180724T011336Z
DTSTART:20180725T083000Z
DTEND:20180725T093000Z
SUMMARY:Wednesday Multi-Club Super Draw
END:VEVENT
END:VCALENDAR
