BEGIN:VCALENDAR
VERSION:2.0
PRODID:-//Squarespace Inc/Squarespace 6//v6//EN
BEGIN:VEVENT
UID:5c072735f950b713bac9cddb@squarespace.com
DTSTAMP:20181205T011803Z
DTSTART:20181221T073000Z
DTEND:20181221T093000Z
SUMMARY:Final Friday Night Xmas Meat Draw
GEO:-31.959477;141.465522
LOCATION:The Broken Hill Musicians Club\, 276 Crystal Street\, Broken Hill\
 , NSW 2880\, Australia
END:VEVENT
END:VCALENDAR
