BEGIN:VCALENDAR
VERSION:2.0
PRODID:-//Squarespace Inc/Squarespace 6//v6//EN
BEGIN:VEVENT
UID:5bc410dd1905f4c1acab8ce4@squarespace.com
DTSTAMP:20181205T011700Z
DTSTART:20181207T073000Z
DTEND:20181207T093000Z
SUMMARY:Friday Night Xmas Meat Draw
GEO:-31.959477;141.465522
LOCATION:The Broken Hill Musicians Club\, 276 Crystal Street\, Broken Hill\
 , NSW 2880\, Australia
END:VEVENT
END:VCALENDAR
