BEGIN:VCALENDAR
VERSION:2.0
PRODID:-//Squarespace Inc/Squarespace 6//v6//EN
BEGIN:VEVENT
UID:5e0eb4799567dd14f48805da@squarespace.com
DTSTAMP:20200103T032656Z
DTSTART:20200124T073000Z
DTEND:20200124T093000Z
SUMMARY:Friday Night Meat Draw
GEO:-31.959477;141.465522
LOCATION:Broken Hill Musicians Club\, 276 Crystal Street\, Broken Hill\, Au
 stralia
END:VEVENT
END:VCALENDAR
