BEGIN:VCALENDAR
VERSION:2.0
PRODID:-//Squarespace Inc/Squarespace 6//v6//EN
BEGIN:VEVENT
UID:5f9babfb47cb5330d126724b@squarespace.com
DTSTAMP:20201030T060036Z
DTSTART:20201108T013000Z
DTEND:20201108T033000Z
SUMMARY:Sunday Lunch Meat Draw
GEO:-31.959477;141.465522
LOCATION:Broken Hill Musicians Club\, 276 Crystal Street\, Broken Hill\, Au
 stralia
END:VEVENT
END:VCALENDAR
