BEGIN:VCALENDAR
VERSION:2.0
PRODID:-//Squarespace Inc/Squarespace 6//v6//EN
BEGIN:VEVENT
UID:5f9babb6b7f33c5914d42b8c@squarespace.com
DTSTAMP:20201030T060009Z
DTSTART:20201101T013000Z
DTEND:20201101T033000Z
SUMMARY:Sunday Lunch Meat Draw
GEO:-31.959477;141.465522
LOCATION:Broken Hill Musicians Club\, 276 Crystal Street\, Broken Hill\, Au
 stralia
END:VEVENT
END:VCALENDAR
