BEGIN:VCALENDAR
VERSION:2.0
PRODID:-//Squarespace Inc/Squarespace 6//v6//EN
BEGIN:VEVENT
UID:5f9ba196b12c5e30f45e7a9a@squarespace.com
DTSTAMP:20201030T051615Z
DTSTART:20201120T073000Z
DTEND:20201120T093000Z
SUMMARY:Friday Night Meat Draw
GEO:-31.959477;141.465522
LOCATION:Broken Hill Musicians Club\, 276 Crystal Street\, Broken Hill\, Au
 stralia
END:VEVENT
END:VCALENDAR
