BEGIN:VCALENDAR
VERSION:2.0
PRODID:-//Squarespace Inc/Squarespace 6//v6//EN
BEGIN:VEVENT
UID:5f9ba78947cb5330d1260b8a@squarespace.com
DTSTAMP:20201030T060135Z
DTSTART:20201125T070000Z
DTEND:20201125T090000Z
SUMMARY:Wednesday Night Meat Draw
GEO:-31.959477;141.465522
LOCATION:Broken Hill Musicians Club\, 276 Crystal Street\, Broken Hill\, Au
 stralia
END:VEVENT
END:VCALENDAR
