BEGIN:VCALENDAR
VERSION:2.0
PRODID:-//Squarespace Inc/Squarespace 6//v6//EN
BEGIN:VEVENT
UID:5f9ba204831ade209203c4ef@squarespace.com
DTSTAMP:20201030T060107Z
DTSTART:20201111T070000Z
DTEND:20201111T090000Z
SUMMARY:Wednesday Night Meat Draw
GEO:-31.959477;141.465522
LOCATION:Broken Hill Musicians Club\, 276 Crystal Street\, Broken Hill\, Au
 stralia
END:VEVENT
END:VCALENDAR
