BEGIN:VCALENDAR
VERSION:2.0
PRODID:-//Squarespace Inc/Squarespace 6//v6//EN
BEGIN:VEVENT
UID:5f9ba0af831ade2092039dd8@squarespace.com
DTSTAMP:20201030T051450Z
DTSTART:20201030T073000Z
DTEND:20201030T093000Z
SUMMARY:Friday Night Meat Draw
GEO:-31.959477;141.465522
LOCATION:Broken Hill Musicians Club\, 276 Crystal Street\, Broken Hill\, Au
 stralia
END:VEVENT
END:VCALENDAR
