BEGIN:VCALENDAR
VERSION:2.0
PRODID:-//Squarespace Inc/Squarespace 6//v6//EN
BEGIN:VEVENT
UID:5b50224270a6ad94de3f44e8@squarespace.com
DTSTAMP:20190107T013126Z
DTSTART:20190111T073000Z
DTEND:20190111T093000Z
SUMMARY:Friday Night Meat Draw
END:VEVENT
END:VCALENDAR
