BEGIN:VCALENDAR
VERSION:2.0
PRODID:-//Squarespace Inc/Squarespace 6//v6//EN
BEGIN:VEVENT
UID:5b5022231ae6cfa99e6058ea@squarespace.com
DTSTAMP:20180724T014527Z
DTSTART:20180824T083000Z
DTEND:20180824T103000Z
SUMMARY:Friday Night Meat Draw
END:VEVENT
END:VCALENDAR
