BEGIN:VCALENDAR
VERSION:2.0
PRODID:-//Squarespace Inc/Squarespace 6//v6//EN
BEGIN:VEVENT
UID:5b5021f270a6ad94de3f3dae@squarespace.com
DTSTAMP:20180724T012854Z
DTSTART:20180810T083000Z
DTEND:20180810T103000Z
SUMMARY:Friday Night Meat Draw
END:VEVENT
END:VCALENDAR
