BEGIN:VCALENDAR
VERSION:2.0
PRODID:-//Squarespace Inc/Squarespace 6//v6//EN
BEGIN:VEVENT
UID:5b5021dbaa4a99a4f729cea0@squarespace.com
DTSTAMP:20180724T012647Z
DTSTART:20180803T083000Z
DTEND:20180803T103000Z
SUMMARY:Friday Night Meat Draw
END:VEVENT
END:VCALENDAR
