BEGIN:VCALENDAR
VERSION:2.0
PRODID:-//Squarespace Inc/Squarespace 6//v6//EN
BEGIN:VEVENT
UID:5b501ead562fa7789290adcb@squarespace.com
DTSTAMP:20180724T011405Z
DTSTART:20180727T080000Z
DTEND:20180727T100000Z
SUMMARY:Friday Night Meat Draw
END:VEVENT
END:VCALENDAR
