BEGIN:VCALENDAR
VERSION:2.0
PRODID:-//Squarespace Inc/Squarespace 6//v6//EN
BEGIN:VEVENT
UID:5b501cb71ae6cfa99e5fce21@squarespace.com
DTSTAMP:20180724T015006Z
DTSTART:20180720T083000Z
DTEND:20180720T103000Z
SUMMARY:Friday Night Meat Draw
END:VEVENT
END:VCALENDAR
