BEGIN:VCALENDAR
VERSION:2.0
PRODID:-//Squarespace Inc/Squarespace 6//v6//EN
BEGIN:VEVENT
UID:5b5024481ae6cfa99e609633@squarespace.com
DTSTAMP:20180724T012616Z
DTSTART:20180801T083000Z
DTEND:20180801T133000Z
SUMMARY:Wednesday Night Poker
END:VEVENT
END:VCALENDAR
