BEGIN:VCALENDAR
VERSION:2.0
PRODID:-//Squarespace Inc/Squarespace 6//v6//EN
BEGIN:VEVENT
UID:5b5024b388251b6ef157f2fc@squarespace.com
DTSTAMP:20180724T014800Z
DTSTART:20180829T083000Z
DTEND:20180829T133000Z
SUMMARY:Wednesday Night Poker
END:VEVENT
END:VCALENDAR
