BEGIN:VCALENDAR
VERSION:2.0
PRODID:-//Squarespace Inc/Squarespace 6//v6//EN
BEGIN:VEVENT
UID:5b50248a352f5358550d2076@squarespace.com
DTSTAMP:20180724T014458Z
DTSTART:20180822T083000Z
DTEND:20180822T133000Z
SUMMARY:Wednesday Night Poker
END:VEVENT
END:VCALENDAR
